BEGIN:VCALENDAR
VERSION:2.0
PRODID:Imitheme.com 
BEGIN:VEVENT
UID:20260422T1407511691010648
DTSTAMP;TZID=UTC:20260422T140751
DTSTART;TZID=UTC:20260422T140700
DTEND;TZID=UTC:20260422T140700
SUMMARY:III Міжнародна виставка продовольчої продукції
LOCATION:
DESCRIPTION:За роки просування українського продовольства на закордонних ринках і виставкових майданчиках та налагодження міжнародних ділових контактів\, Рада з питань експорту продовольства ініціювала в Україні нову бізнес-платформу для ділових зустрічей та переговорів українських виробників продовольчих товарів з національними та міжнародними закупівельниками продуктів харчування та напоїв\, постачальниками обладнання та технологій для харчової промисловості. Ukrainian Food...
END:VEVENT
END:VCALENDAR
