BEGIN:VCALENDAR
VERSION:2.0
PRODID:Imitheme.com 
BEGIN:VEVENT
UID:20260422T1412591814047345
DTSTAMP;TZID=UTC:20260422T141259
DTSTART;TZID=UTC:20260422T141200
DTEND;TZID=UTC:20260422T141200
SUMMARY:Бізнес-Форум Топ-100 найкращих українських компаній 2019  Працюй в Україні
LOCATION:
DESCRIPTION:Бізнес-Форум Топ-100 найкращих українських компаній 2019  Працюй в Україні — майданчик для обміну досвідом серед бізнесменів — презентація найбільш розвинутих компаній 2019 року — номінації та нагородження кращих компаній України ТОП 100 — це платформа\, яка об’єднує власників та керівників компаній\, топ-менеджерів та інвесторів\, бізнес та владу. Ми пропонуємо лідерам...
END:VEVENT
END:VCALENDAR
