BEGIN:VCALENDAR
VERSION:2.0
PRODID:Imitheme.com 
BEGIN:VEVENT
UID:20260422T141137207231629
DTSTAMP;TZID=UTC:20260422T141137
DTSTART;TZID=UTC:20260422T141100
DTEND;TZID=UTC:20260422T141100
SUMMARY:I Міжнародний Електроенергетичний Форум
LOCATION:
DESCRIPTION:– Енергетична галузь та її роль на міжнародній арені(законодавчі ініціативи\, стратегічне партнерство з країнами ЄС\, залучення інвестицій). – Трансформація енергетичної системи (цифрова енергетика\: практичні кейси\, Smart – технології як інструмент майбутнього\, енергетична незалежність\, Smart Grid). – Сонячна енергетика (інновації\, декаборнізація як енергетика майбутнього (політична воля та можливості вітчизняного ринку галузі\, зелені тарифи\,...
END:VEVENT
END:VCALENDAR
